BEGIN:VCALENDAR
VERSION:2.0
PRODID:-//New Life Church - ECPv6.15.20//NONSGML v1.0//EN
CALSCALE:GREGORIAN
METHOD:PUBLISH
X-ORIGINAL-URL:https://newlifeinames.com
X-WR-CALDESC:Events for New Life Church
REFRESH-INTERVAL;VALUE=DURATION:PT1H
X-Robots-Tag:noindex
X-PUBLISHED-TTL:PT1H
BEGIN:VTIMEZONE
TZID:America/Chicago
BEGIN:DAYLIGHT
TZOFFSETFROM:-0600
TZOFFSETTO:-0500
TZNAME:CDT
DTSTART:20200308T080000
END:DAYLIGHT
BEGIN:STANDARD
TZOFFSETFROM:-0500
TZOFFSETTO:-0600
TZNAME:CST
DTSTART:20201101T070000
END:STANDARD
BEGIN:DAYLIGHT
TZOFFSETFROM:-0600
TZOFFSETTO:-0500
TZNAME:CDT
DTSTART:20210314T080000
END:DAYLIGHT
BEGIN:STANDARD
TZOFFSETFROM:-0500
TZOFFSETTO:-0600
TZNAME:CST
DTSTART:20211107T070000
END:STANDARD
BEGIN:DAYLIGHT
TZOFFSETFROM:-0600
TZOFFSETTO:-0500
TZNAME:CDT
DTSTART:20220313T080000
END:DAYLIGHT
BEGIN:STANDARD
TZOFFSETFROM:-0500
TZOFFSETTO:-0600
TZNAME:CST
DTSTART:20221106T070000
END:STANDARD
BEGIN:DAYLIGHT
TZOFFSETFROM:-0600
TZOFFSETTO:-0500
TZNAME:CDT
DTSTART:20230312T080000
END:DAYLIGHT
BEGIN:STANDARD
TZOFFSETFROM:-0500
TZOFFSETTO:-0600
TZNAME:CST
DTSTART:20231105T070000
END:STANDARD
BEGIN:DAYLIGHT
TZOFFSETFROM:-0600
TZOFFSETTO:-0500
TZNAME:CDT
DTSTART:20240310T080000
END:DAYLIGHT
BEGIN:STANDARD
TZOFFSETFROM:-0500
TZOFFSETTO:-0600
TZNAME:CST
DTSTART:20241103T070000
END:STANDARD
END:VTIMEZONE
BEGIN:VEVENT
DTSTART;TZID=America/Chicago:20230811T183000
DTEND;TZID=America/Chicago:20230811T183000
DTSTAMP:20260422T052703
CREATED:20230126T002220Z
LAST-MODIFIED:20230126T002220Z
UID:3554-1691778600-1691778600@newlifeinames.com
SUMMARY:Youth Night
DESCRIPTION:
URL:https://newlifeinames.com/event/youth-night-18/
CATEGORIES:Youth
END:VEVENT
BEGIN:VEVENT
DTSTART;VALUE=DATE:20230726
DTEND;VALUE=DATE:20230729
DTSTAMP:20260422T052703
CREATED:20230126T001307Z
LAST-MODIFIED:20230126T002051Z
UID:3549-1690329600-1690588799@newlifeinames.com
SUMMARY:North American Youth Congress- St Louis\, MO
DESCRIPTION:
URL:https://newlifeinames.com/event/north-american-youth-congress/
LOCATION:St Louis\, MO
CATEGORIES:Youth
END:VEVENT
BEGIN:VEVENT
DTSTART;TZID=America/Chicago:20230623T183000
DTEND;TZID=America/Chicago:20230623T183000
DTSTAMP:20260422T052703
CREATED:20230125T234330Z
LAST-MODIFIED:20230125T234330Z
UID:3545-1687545000-1687545000@newlifeinames.com
SUMMARY:Youth Night
DESCRIPTION:
URL:https://newlifeinames.com/event/youth-night-17/
CATEGORIES:Youth
END:VEVENT
BEGIN:VEVENT
DTSTART;TZID=America/Chicago:20230609T183000
DTEND;TZID=America/Chicago:20230609T183000
DTSTAMP:20260422T052703
CREATED:20230125T233753Z
LAST-MODIFIED:20230125T233753Z
UID:3541-1686335400-1686335400@newlifeinames.com
SUMMARY:Youth Night
DESCRIPTION:
URL:https://newlifeinames.com/event/youth-night-16/
CATEGORIES:Youth
END:VEVENT
BEGIN:VEVENT
DTSTART;TZID=America/Chicago:20230526T183000
DTEND;TZID=America/Chicago:20230526T183000
DTSTAMP:20260422T052703
CREATED:20230125T233629Z
LAST-MODIFIED:20230125T233629Z
UID:3539-1685125800-1685125800@newlifeinames.com
SUMMARY:Youth Night
DESCRIPTION:
URL:https://newlifeinames.com/event/youth-night-15/
CATEGORIES:Youth
END:VEVENT
BEGIN:VEVENT
DTSTART;TZID=America/Chicago:20230512T183000
DTEND;TZID=America/Chicago:20230512T183000
DTSTAMP:20260422T052703
CREATED:20230125T233402Z
LAST-MODIFIED:20230125T233402Z
UID:3537-1683916200-1683916200@newlifeinames.com
SUMMARY:Youth Night
DESCRIPTION:
URL:https://newlifeinames.com/event/youth-night-14/
CATEGORIES:Youth
END:VEVENT
BEGIN:VEVENT
DTSTART;TZID=America/Chicago:20230428T183000
DTEND;TZID=America/Chicago:20230428T183000
DTSTAMP:20260422T052703
CREATED:20230125T232653Z
LAST-MODIFIED:20230125T232653Z
UID:3534-1682706600-1682706600@newlifeinames.com
SUMMARY:Youth Night
DESCRIPTION:
URL:https://newlifeinames.com/event/youth-night-13/
CATEGORIES:Youth
END:VEVENT
BEGIN:VEVENT
DTSTART;TZID=America/Chicago:20230414T183000
DTEND;TZID=America/Chicago:20230414T183000
DTSTAMP:20260422T052703
CREATED:20230125T232443Z
LAST-MODIFIED:20230125T232443Z
UID:3530-1681497000-1681497000@newlifeinames.com
SUMMARY:Youth Night
DESCRIPTION:
URL:https://newlifeinames.com/event/youth-night-12/
CATEGORIES:Youth
END:VEVENT
BEGIN:VEVENT
DTSTART;TZID=America/Chicago:20230324T183000
DTEND;TZID=America/Chicago:20230324T183000
DTSTAMP:20260422T052703
CREATED:20230125T232023Z
LAST-MODIFIED:20230125T232023Z
UID:3524-1679682600-1679682600@newlifeinames.com
SUMMARY:Youth Night
DESCRIPTION:
URL:https://newlifeinames.com/event/youth-night-11/
CATEGORIES:Youth
END:VEVENT
BEGIN:VEVENT
DTSTART;TZID=America/Chicago:20230310T183000
DTEND;TZID=America/Chicago:20230310T183000
DTSTAMP:20260422T052703
CREATED:20230125T231802Z
LAST-MODIFIED:20230125T231802Z
UID:3520-1678473000-1678473000@newlifeinames.com
SUMMARY:Youth Night
DESCRIPTION:
URL:https://newlifeinames.com/event/youth-night-10/
CATEGORIES:Youth
END:VEVENT
BEGIN:VEVENT
DTSTART;TZID=America/Chicago:20230224T183000
DTEND;TZID=America/Chicago:20230224T183000
DTSTAMP:20260422T052703
CREATED:20230125T231134Z
LAST-MODIFIED:20230125T231134Z
UID:3516-1677263400-1677263400@newlifeinames.com
SUMMARY:Youth Night
DESCRIPTION:
URL:https://newlifeinames.com/event/youth-night-9/
CATEGORIES:Youth
END:VEVENT
BEGIN:VEVENT
DTSTART;TZID=America/Chicago:20230210T183000
DTEND;TZID=America/Chicago:20230210T183000
DTSTAMP:20260422T052703
CREATED:20230125T230442Z
LAST-MODIFIED:20230125T230442Z
UID:3510-1676053800-1676053800@newlifeinames.com
SUMMARY:Youth Night
DESCRIPTION:
URL:https://newlifeinames.com/event/youth-night-8/
CATEGORIES:Youth
END:VEVENT
BEGIN:VEVENT
DTSTART;TZID=America/Chicago:20230127T183000
DTEND;TZID=America/Chicago:20230127T183000
DTSTAMP:20260422T052703
CREATED:20230125T225734Z
LAST-MODIFIED:20230125T225734Z
UID:3506-1674844200-1674844200@newlifeinames.com
SUMMARY:Youth Night
DESCRIPTION:
URL:https://newlifeinames.com/event/youth-night-7/
CATEGORIES:Youth
END:VEVENT
BEGIN:VEVENT
DTSTART;TZID=America/Chicago:20221209T183000
DTEND;TZID=America/Chicago:20221209T183000
DTSTAMP:20260422T052703
CREATED:20211122T212758Z
LAST-MODIFIED:20211122T212758Z
UID:3133-1670610600-1670610600@newlifeinames.com
SUMMARY:Youth Christmas Party
DESCRIPTION:
URL:https://newlifeinames.com/event/youth-christmas-party/
CATEGORIES:Youth
END:VEVENT
BEGIN:VEVENT
DTSTART;TZID=America/Chicago:20221111T183000
DTEND;TZID=America/Chicago:20221111T183000
DTSTAMP:20260422T052703
CREATED:20211122T212535Z
LAST-MODIFIED:20211122T212535Z
UID:3129-1668191400-1668191400@newlifeinames.com
SUMMARY:Youth Thanksgiving Party
DESCRIPTION:
URL:https://newlifeinames.com/event/youth-thanksgiving-party/
CATEGORIES:Youth
END:VEVENT
BEGIN:VEVENT
DTSTART;VALUE=DATE:20220613
DTEND;VALUE=DATE:20220618
DTSTAMP:20260422T052703
CREATED:20211122T211554Z
LAST-MODIFIED:20211122T211554Z
UID:3115-1655078400-1655510399@newlifeinames.com
SUMMARY:Children's and Youth Camp- Boone\, IA
DESCRIPTION:
URL:https://newlifeinames.com/event/childrens-and-youth-camp-boone-ia/
LOCATION:SUNSTREAM – BOONE\, IA
CATEGORIES:Kids,Youth
END:VEVENT
BEGIN:VEVENT
DTSTART;TZID=America/Chicago:20220304T190000
DTEND;TZID=America/Chicago:20220304T190000
DTSTAMP:20260422T052703
CREATED:20211122T210259Z
LAST-MODIFIED:20211122T210259Z
UID:3099-1646420400-1646420400@newlifeinames.com
SUMMARY:Youth Rally-Marshalltown\, IA
DESCRIPTION:
URL:https://newlifeinames.com/event/youth-rally-marshalltown-ia/
LOCATION:Marshalltown\, IA
CATEGORIES:Youth
END:VEVENT
BEGIN:VEVENT
DTSTART;TZID=America/Chicago:20220128T183000
DTEND;TZID=America/Chicago:20220128T183000
DTSTAMP:20260422T052703
CREATED:20211122T201314Z
LAST-MODIFIED:20211122T201314Z
UID:3035-1643394600-1643394600@newlifeinames.com
SUMMARY:Youth Night
DESCRIPTION:
URL:https://newlifeinames.com/event/youth-night-5/
CATEGORIES:Youth
END:VEVENT
BEGIN:VEVENT
DTSTART;TZID=America/Chicago:20211228T080000
DTEND;TZID=America/Chicago:20211230T170000
DTSTAMP:20260422T052703
CREATED:20210120T024544Z
LAST-MODIFIED:20210120T024544Z
UID:1987-1640678400-1640883600@newlifeinames.com
SUMMARY:IA District Youth Convention
DESCRIPTION:
URL:https://newlifeinames.com/event/ia-district-youth-convention/
LOCATION:DES MOINES\, IA
CATEGORIES:IA District,Youth
END:VEVENT
BEGIN:VEVENT
DTSTART;TZID=America/Chicago:20211219T090000
DTEND;TZID=America/Chicago:20211219T090000
DTSTAMP:20260422T052703
CREATED:20210120T035717Z
LAST-MODIFIED:20211007T184219Z
UID:2126-1639904400-1639904400@newlifeinames.com
SUMMARY:Sunday School
DESCRIPTION:Sunday School for all ages at 9am
URL:https://newlifeinames.com/event/sunday-school-78-2021-12-19/
LOCATION:New Life Church\, 3505 S Duff Ave.\, Ames\, IA\, 50010
CATEGORIES:Kids,Youth
END:VEVENT
BEGIN:VEVENT
DTSTART;TZID=America/Chicago:20211212T090000
DTEND;TZID=America/Chicago:20211212T090000
DTSTAMP:20260422T052703
CREATED:20210120T035717Z
LAST-MODIFIED:20211007T184218Z
UID:2125-1639299600-1639299600@newlifeinames.com
SUMMARY:Sunday School
DESCRIPTION:Sunday School for all ages at 9am
URL:https://newlifeinames.com/event/sunday-school-78-2021-12-12/
LOCATION:New Life Church\, 3505 S Duff Ave.\, Ames\, IA\, 50010
CATEGORIES:Kids,Youth
END:VEVENT
BEGIN:VEVENT
DTSTART;TZID=America/Chicago:20211210T183000
DTEND;TZID=America/Chicago:20211210T183000
DTSTAMP:20260422T052703
CREATED:20210120T024033Z
LAST-MODIFIED:20210120T024033Z
UID:1985-1639161000-1639161000@newlifeinames.com
SUMMARY:Youth Night Christmas Party
DESCRIPTION:
URL:https://newlifeinames.com/event/youth-night-christmas-party/
LOCATION:New Life Church\, 3505 S Duff Ave.\, Ames\, IA\, 50010
CATEGORIES:Youth
END:VEVENT
BEGIN:VEVENT
DTSTART;TZID=America/Chicago:20211205T090000
DTEND;TZID=America/Chicago:20211205T090000
DTSTAMP:20260422T052703
CREATED:20210120T035717Z
LAST-MODIFIED:20211007T184218Z
UID:2124-1638694800-1638694800@newlifeinames.com
SUMMARY:Sunday School
DESCRIPTION:Sunday School for all ages at 9am
URL:https://newlifeinames.com/event/sunday-school-78-2021-12-05/
LOCATION:New Life Church\, 3505 S Duff Ave.\, Ames\, IA\, 50010
CATEGORIES:Kids,Youth
END:VEVENT
BEGIN:VEVENT
DTSTART;TZID=America/Chicago:20211128T090000
DTEND;TZID=America/Chicago:20211128T090000
DTSTAMP:20260422T052703
CREATED:20210120T035717Z
LAST-MODIFIED:20211007T184217Z
UID:2123-1638090000-1638090000@newlifeinames.com
SUMMARY:Sunday School
DESCRIPTION:Sunday School for all ages at 9am
URL:https://newlifeinames.com/event/sunday-school-78-2021-11-28/
LOCATION:New Life Church\, 3505 S Duff Ave.\, Ames\, IA\, 50010
CATEGORIES:Kids,Youth
END:VEVENT
BEGIN:VEVENT
DTSTART;TZID=America/Chicago:20211121T090000
DTEND;TZID=America/Chicago:20211121T090000
DTSTAMP:20260422T052703
CREATED:20210120T035717Z
LAST-MODIFIED:20211007T184216Z
UID:2122-1637485200-1637485200@newlifeinames.com
SUMMARY:Sunday School
DESCRIPTION:Sunday School for all ages at 9am
URL:https://newlifeinames.com/event/sunday-school-78-2021-11-21/
LOCATION:New Life Church\, 3505 S Duff Ave.\, Ames\, IA\, 50010
CATEGORIES:Kids,Youth
END:VEVENT
BEGIN:VEVENT
DTSTART;TZID=America/Chicago:20211114T090000
DTEND;TZID=America/Chicago:20211114T090000
DTSTAMP:20260422T052703
CREATED:20210120T035717Z
LAST-MODIFIED:20211007T184216Z
UID:2121-1636880400-1636880400@newlifeinames.com
SUMMARY:Sunday School
DESCRIPTION:Sunday School for all ages at 9am
URL:https://newlifeinames.com/event/sunday-school-78-2021-11-14/
LOCATION:New Life Church\, 3505 S Duff Ave.\, Ames\, IA\, 50010
CATEGORIES:Kids,Youth
END:VEVENT
BEGIN:VEVENT
DTSTART;VALUE=DATE:20211112
DTEND;VALUE=DATE:20211113
DTSTAMP:20260422T052703
CREATED:20210120T023425Z
LAST-MODIFIED:20210120T023425Z
UID:1984-1636675200-1636761599@newlifeinames.com
SUMMARY:Section 2 Youth Rally
DESCRIPTION:Location TBD
URL:https://newlifeinames.com/event/section-2-youth-rally-3-2021-11-12/
CATEGORIES:Youth
END:VEVENT
BEGIN:VEVENT
DTSTART;TZID=America/Chicago:20211107T090000
DTEND;TZID=America/Chicago:20211107T090000
DTSTAMP:20260422T052703
CREATED:20210120T035717Z
LAST-MODIFIED:20211007T184215Z
UID:2120-1636275600-1636275600@newlifeinames.com
SUMMARY:Sunday School
DESCRIPTION:Sunday School for all ages at 9am
URL:https://newlifeinames.com/event/sunday-school-78-2021-11-07/
LOCATION:New Life Church\, 3505 S Duff Ave.\, Ames\, IA\, 50010
CATEGORIES:Kids,Youth
END:VEVENT
BEGIN:VEVENT
DTSTART;TZID=America/Chicago:20211031T090000
DTEND;TZID=America/Chicago:20211031T090000
DTSTAMP:20260422T052703
CREATED:20210120T035717Z
LAST-MODIFIED:20211007T184214Z
UID:2119-1635670800-1635670800@newlifeinames.com
SUMMARY:Sunday School
DESCRIPTION:Sunday School for all ages at 9am
URL:https://newlifeinames.com/event/sunday-school-78-2021-10-31/
LOCATION:New Life Church\, 3505 S Duff Ave.\, Ames\, IA\, 50010
CATEGORIES:Kids,Youth
END:VEVENT
BEGIN:VEVENT
DTSTART;TZID=America/Chicago:20211024T090000
DTEND;TZID=America/Chicago:20211024T090000
DTSTAMP:20260422T052703
CREATED:20210120T035717Z
LAST-MODIFIED:20211007T184212Z
UID:2118-1635066000-1635066000@newlifeinames.com
SUMMARY:Sunday School
DESCRIPTION:Sunday School for all ages at 9am
URL:https://newlifeinames.com/event/sunday-school-78-2021-10-24/
LOCATION:New Life Church\, 3505 S Duff Ave.\, Ames\, IA\, 50010
CATEGORIES:Kids,Youth
END:VEVENT
END:VCALENDAR