BEGIN:VCALENDAR
VERSION:2.0
PRODID:-//New Life Church - ECPv6.15.20//NONSGML v1.0//EN
CALSCALE:GREGORIAN
METHOD:PUBLISH
X-WR-CALNAME:New Life Church
X-ORIGINAL-URL:https://newlifeinames.com
X-WR-CALDESC:Events for New Life Church
REFRESH-INTERVAL;VALUE=DURATION:PT1H
X-Robots-Tag:noindex
X-PUBLISHED-TTL:PT1H
BEGIN:VTIMEZONE
TZID:America/Chicago
BEGIN:DAYLIGHT
TZOFFSETFROM:-0600
TZOFFSETTO:-0500
TZNAME:CDT
DTSTART:20190310T080000
END:DAYLIGHT
BEGIN:STANDARD
TZOFFSETFROM:-0500
TZOFFSETTO:-0600
TZNAME:CST
DTSTART:20191103T070000
END:STANDARD
BEGIN:DAYLIGHT
TZOFFSETFROM:-0600
TZOFFSETTO:-0500
TZNAME:CDT
DTSTART:20200308T080000
END:DAYLIGHT
BEGIN:STANDARD
TZOFFSETFROM:-0500
TZOFFSETTO:-0600
TZNAME:CST
DTSTART:20201101T070000
END:STANDARD
BEGIN:DAYLIGHT
TZOFFSETFROM:-0600
TZOFFSETTO:-0500
TZNAME:CDT
DTSTART:20210314T080000
END:DAYLIGHT
BEGIN:STANDARD
TZOFFSETFROM:-0500
TZOFFSETTO:-0600
TZNAME:CST
DTSTART:20211107T070000
END:STANDARD
BEGIN:DAYLIGHT
TZOFFSETFROM:-0600
TZOFFSETTO:-0500
TZNAME:CDT
DTSTART:20220313T080000
END:DAYLIGHT
BEGIN:STANDARD
TZOFFSETFROM:-0500
TZOFFSETTO:-0600
TZNAME:CST
DTSTART:20221106T070000
END:STANDARD
END:VTIMEZONE
BEGIN:VEVENT
DTSTART;TZID=America/Chicago:20211228T080000
DTEND;TZID=America/Chicago:20211230T170000
DTSTAMP:20260422T015227
CREATED:20210120T024544Z
LAST-MODIFIED:20210120T024544Z
UID:1987-1640678400-1640883600@newlifeinames.com
SUMMARY:IA District Youth Convention
DESCRIPTION:
URL:https://newlifeinames.com/event/ia-district-youth-convention/
LOCATION:DES MOINES\, IA
CATEGORIES:IA District,Youth
END:VEVENT
BEGIN:VEVENT
DTSTART;TZID=America/Chicago:20211022T080000
DTEND;TZID=America/Chicago:20211023T170000
DTSTAMP:20260422T015227
CREATED:20210209T023304Z
LAST-MODIFIED:20210209T023304Z
UID:2507-1634889600-1635008400@newlifeinames.com
SUMMARY:IA District Hyphen Retreat
DESCRIPTION:
URL:https://newlifeinames.com/event/ia-district-hyphen-retreat/
LOCATION:SUNSTREAM – BOONE\, IA
CATEGORIES:Hyphen,IA District
END:VEVENT
BEGIN:VEVENT
DTSTART;VALUE=DATE:20210910
DTEND;VALUE=DATE:20210911
DTSTAMP:20260422T015227
CREATED:20210120T030707Z
LAST-MODIFIED:20210120T030707Z
UID:2009-1631232000-1631318399@newlifeinames.com
SUMMARY:IA District CM Golf Tournament
DESCRIPTION:
URL:https://newlifeinames.com/event/ia-district-cm-golf-tournament/
LOCATION:Newton\, IA
CATEGORIES:IA District,Men's Group
END:VEVENT
BEGIN:VEVENT
DTSTART;TZID=America/Chicago:20210909T080000
DTEND;TZID=America/Chicago:20210911T170000
DTSTAMP:20260422T015227
CREATED:20210120T030529Z
LAST-MODIFIED:20210120T030529Z
UID:2006-1631174400-1631379600@newlifeinames.com
SUMMARY:IA District Men's Conference
DESCRIPTION:
URL:https://newlifeinames.com/event/ia-district-mens-conference/
LOCATION:Newton\, IA
CATEGORIES:IA District,Men's Group
END:VEVENT
BEGIN:VEVENT
DTSTART;TZID=America/Chicago:20210614T080000
DTEND;TZID=America/Chicago:20210618T170000
DTSTAMP:20260422T015227
CREATED:20210120T024829Z
LAST-MODIFIED:20210120T024948Z
UID:1991-1623657600-1624035600@newlifeinames.com
SUMMARY:IA District Children's Ministry Camp
DESCRIPTION:(Ages 8-12)
URL:https://newlifeinames.com/event/ia-district-childrens-ministry-camp/
LOCATION:SUNSTREAM – BOONE\, IA
CATEGORIES:IA District,Youth
END:VEVENT
BEGIN:VEVENT
DTSTART;TZID=America/Chicago:20210614T080000
DTEND;TZID=America/Chicago:20210618T170000
DTSTAMP:20260422T015227
CREATED:20210120T024728Z
LAST-MODIFIED:20210120T025151Z
UID:1989-1623657600-1624035600@newlifeinames.com
SUMMARY:IA District IYM Camp
DESCRIPTION:(ages 12-18)
URL:https://newlifeinames.com/event/ia-district-iym-camp/
LOCATION:SUNSTREAM – BOONE\, IA
CATEGORIES:IA District,Youth
END:VEVENT
BEGIN:VEVENT
DTSTART;TZID=America/Chicago:20210408T080000
DTEND;TZID=America/Chicago:20210410T170000
DTSTAMP:20260422T015227
CREATED:20210209T025639Z
LAST-MODIFIED:20210209T025639Z
UID:2522-1617868800-1618074000@newlifeinames.com
SUMMARY:IA District Ladies Conference
DESCRIPTION:
URL:https://newlifeinames.com/event/ia-district-ladies-conference-2/
LOCATION:DES MOINES\, IA
CATEGORIES:IA District,Ladies Group
END:VEVENT
BEGIN:VEVENT
DTSTART;VALUE=DATE:20210226
DTEND;VALUE=DATE:20210228
DTSTAMP:20260422T015227
CREATED:20210120T044448Z
LAST-MODIFIED:20210120T044448Z
UID:2454-1614297600-1614470399@newlifeinames.com
SUMMARY:IA District "TwoGether" Marriage Retreat
DESCRIPTION:Time & Location TBA
URL:https://newlifeinames.com/event/ia-district-twogether-marriage-retreat-2/
CATEGORIES:IA District
END:VEVENT
BEGIN:VEVENT
DTSTART;VALUE=DATE:20210213
DTEND;VALUE=DATE:20210214
DTSTAMP:20260422T015227
CREATED:20210120T043819Z
LAST-MODIFIED:20210120T043819Z
UID:2446-1613174400-1613260799@newlifeinames.com
SUMMARY:IA District Hyphen Fellowship East
DESCRIPTION:Time & Location TBA
URL:https://newlifeinames.com/event/ia-district-hyphen-fellowship-east-2/
CATEGORIES:Hyphen,IA District
END:VEVENT
BEGIN:VEVENT
DTSTART;VALUE=DATE:20200715
DTEND;VALUE=DATE:20200718
DTSTAMP:20260422T015227
CREATED:20200130T021041Z
LAST-MODIFIED:20200130T021041Z
UID:1803-1594771200-1595030399@newlifeinames.com
SUMMARY:IA District Convention
DESCRIPTION:
URL:https://newlifeinames.com/event/ia-district-convention/
LOCATION:DES MOINES\, IA
CATEGORIES:IA District
END:VEVENT
BEGIN:VEVENT
DTSTART;VALUE=DATE:20200615
DTEND;VALUE=DATE:20200620
DTSTAMP:20260422T015227
CREATED:20200130T015605Z
LAST-MODIFIED:20200130T015605Z
UID:1791-1592179200-1592611199@newlifeinames.com
SUMMARY:IA District IYM Camp (ages 12-18)
DESCRIPTION:
URL:https://newlifeinames.com/event/ia-district-iym-camp-ages-12-18/
LOCATION:SUNSTREAM – BOONE\, IA
CATEGORIES:IA District
END:VEVENT
BEGIN:VEVENT
DTSTART;VALUE=DATE:20200615
DTEND;VALUE=DATE:20200620
DTSTAMP:20260422T015227
CREATED:20200130T015333Z
LAST-MODIFIED:20200130T015333Z
UID:1787-1592179200-1592611199@newlifeinames.com
SUMMARY:IA District "Rooted" Children's Ministry Camp (Ages 8-12)
DESCRIPTION:
URL:https://newlifeinames.com/event/ia-district-rooted-childrens-ministry-camp-ages-8-12/
LOCATION:SUNSTREAM – BOONE\, IA
CATEGORIES:IA District
END:VEVENT
BEGIN:VEVENT
DTSTART;VALUE=DATE:20200606
DTEND;VALUE=DATE:20200607
DTSTAMP:20260422T015227
CREATED:20200130T014750Z
LAST-MODIFIED:20200130T014750Z
UID:1781-1591401600-1591487999@newlifeinames.com
SUMMARY:IA District Jr/Sr Bible Quizzing Finals
DESCRIPTION:TBA
URL:https://newlifeinames.com/event/ia-district-jr-sr-bible-quizzing-finals/
CATEGORIES:Bible Quizzing,IA District
END:VEVENT
BEGIN:VEVENT
DTSTART;VALUE=DATE:20200530
DTEND;VALUE=DATE:20200531
DTSTAMP:20260422T015227
CREATED:20200130T014145Z
LAST-MODIFIED:20200130T014145Z
UID:1773-1590796800-1590883199@newlifeinames.com
SUMMARY:IA District Crusade
DESCRIPTION:TBA – DES MOINES\, IA
URL:https://newlifeinames.com/event/ia-district-crusade/
CATEGORIES:IA District
END:VEVENT
BEGIN:VEVENT
DTSTART;VALUE=DATE:20200502
DTEND;VALUE=DATE:20200503
DTSTAMP:20260422T015227
CREATED:20200130T012812Z
LAST-MODIFIED:20200130T012812Z
UID:1763-1588377600-1588463999@newlifeinames.com
SUMMARY:IA District Bible Quizzing Tournament
DESCRIPTION:TBA
URL:https://newlifeinames.com/event/ia-district-bible-quizzing-tournament-3/
CATEGORIES:Bible Quizzing,IA District
END:VEVENT
BEGIN:VEVENT
DTSTART;VALUE=DATE:20200402
DTEND;VALUE=DATE:20200405
DTSTAMP:20260422T015227
CREATED:20200124T015740Z
LAST-MODIFIED:20200124T015740Z
UID:1738-1585785600-1586044799@newlifeinames.com
SUMMARY:IA District Ladies Conference
DESCRIPTION:Taking place in Des Moines\, IA
URL:https://newlifeinames.com/event/ia-district-ladies-conference/
CATEGORIES:IA District,Ladies Group
END:VEVENT
BEGIN:VEVENT
DTSTART;VALUE=DATE:20200327
DTEND;VALUE=DATE:20200329
DTSTAMP:20260422T015227
CREATED:20200124T015415Z
LAST-MODIFIED:20200124T015415Z
UID:1734-1585267200-1585439999@newlifeinames.com
SUMMARY:IA District Spanish Conference
DESCRIPTION:Taking place in Anamosa\, IA
URL:https://newlifeinames.com/event/ia-district-spanish-conference/
CATEGORIES:IA District
END:VEVENT
BEGIN:VEVENT
DTSTART;VALUE=DATE:20200314
DTEND;VALUE=DATE:20200315
DTSTAMP:20260422T015227
CREATED:20200124T015248Z
LAST-MODIFIED:20200124T015248Z
UID:1732-1584144000-1584230399@newlifeinames.com
SUMMARY:IA District Children's Ministry Concert
DESCRIPTION:Taking place in Des Moines\, IA
URL:https://newlifeinames.com/event/ia-district-childrens-ministry-concert/
CATEGORIES:IA District
END:VEVENT
BEGIN:VEVENT
DTSTART;VALUE=DATE:20200309
DTEND;VALUE=DATE:20200310
DTSTAMP:20260422T015227
CREATED:20200124T014938Z
LAST-MODIFIED:20200124T014938Z
UID:1728-1583712000-1583798399@newlifeinames.com
SUMMARY:IA District Crusade Webinar
DESCRIPTION:Online
URL:https://newlifeinames.com/event/ia-district-crusade-webinar/
CATEGORIES:IA District
END:VEVENT
BEGIN:VEVENT
DTSTART;VALUE=DATE:20200307
DTEND;VALUE=DATE:20200308
DTSTAMP:20260422T015227
CREATED:20200124T014627Z
LAST-MODIFIED:20200124T014627Z
UID:1724-1583539200-1583625599@newlifeinames.com
SUMMARY:IA District Hyphen Fellowship West
DESCRIPTION:TBA
URL:https://newlifeinames.com/event/ia-district-hyphen-fellowship-west/
CATEGORIES:Hyphen,IA District
END:VEVENT
BEGIN:VEVENT
DTSTART;VALUE=DATE:20200307
DTEND;VALUE=DATE:20200308
DTSTAMP:20260422T015227
CREATED:20200124T014522Z
LAST-MODIFIED:20200124T014522Z
UID:1722-1583539200-1583625599@newlifeinames.com
SUMMARY:IA District Bible Quizzing Tournament
DESCRIPTION:TBA
URL:https://newlifeinames.com/event/ia-district-bible-quizzing-tournament-2/
CATEGORIES:Bible Quizzing,IA District
END:VEVENT
BEGIN:VEVENT
DTSTART;VALUE=DATE:20200221
DTEND;VALUE=DATE:20200223
DTSTAMP:20260422T015227
CREATED:20200124T013516Z
LAST-MODIFIED:20200124T013516Z
UID:1710-1582243200-1582415999@newlifeinames.com
SUMMARY:IA District "TwoGether" Marriage Retreat
DESCRIPTION:Young married couples are encouraged to join this fun and faith led conference to secure a solid foundation for their marriage.  There will be a translator there for all latino couples\, as well.  Please register before January 29th\, registration will be $180.  If you register after the 29th\, the registration is $200.  Please see Sis Milvian and Bro Armando for more details\, and if you have any questions.
URL:https://newlifeinames.com/event/ia-district-twogether-marriage-retreat/
LOCATION:Radisson Hotel & Convention Center\, 2609 University\, Ames\, IA\, 50010\, United States
CATEGORIES:IA District,Young Marrieds
END:VEVENT
BEGIN:VEVENT
DTSTART;TZID=America/Chicago:20200208T080000
DTEND;TZID=America/Chicago:20200208T170000
DTSTAMP:20260422T015227
CREATED:20200124T012144Z
LAST-MODIFIED:20200124T012144Z
UID:1701-1581148800-1581181200@newlifeinames.com
SUMMARY:IA District Bible Quizzing Tournament
DESCRIPTION:TBA
URL:https://newlifeinames.com/event/ia-district-bible-quizzing-tournament/
CATEGORIES:Bible Quizzing,IA District
END:VEVENT
BEGIN:VEVENT
DTSTART;VALUE=DATE:20200207
DTEND;VALUE=DATE:20200208
DTSTAMP:20260422T015227
CREATED:20200124T011738Z
LAST-MODIFIED:20200124T011838Z
UID:1697-1581033600-1581119999@newlifeinames.com
SUMMARY:IA District Hyphen Fellowship East
DESCRIPTION:TBA
URL:https://newlifeinames.com/event/ia-district-hyphen-fellowship-east/
CATEGORIES:Hyphen,IA District
END:VEVENT
END:VCALENDAR