BEGIN:VCALENDAR
VERSION:2.0
PRODID:-//New Life Church - ECPv6.15.20//NONSGML v1.0//EN
CALSCALE:GREGORIAN
METHOD:PUBLISH
X-WR-CALNAME:New Life Church
X-ORIGINAL-URL:https://newlifeinames.com
X-WR-CALDESC:Events for New Life Church
REFRESH-INTERVAL;VALUE=DURATION:PT1H
X-Robots-Tag:noindex
X-PUBLISHED-TTL:PT1H
BEGIN:VTIMEZONE
TZID:America/Chicago
BEGIN:DAYLIGHT
TZOFFSETFROM:-0600
TZOFFSETTO:-0500
TZNAME:CDT
DTSTART:20170312T080000
END:DAYLIGHT
BEGIN:STANDARD
TZOFFSETFROM:-0500
TZOFFSETTO:-0600
TZNAME:CST
DTSTART:20171105T070000
END:STANDARD
BEGIN:DAYLIGHT
TZOFFSETFROM:-0600
TZOFFSETTO:-0500
TZNAME:CDT
DTSTART:20180311T080000
END:DAYLIGHT
BEGIN:STANDARD
TZOFFSETFROM:-0500
TZOFFSETTO:-0600
TZNAME:CST
DTSTART:20181104T070000
END:STANDARD
BEGIN:DAYLIGHT
TZOFFSETFROM:-0600
TZOFFSETTO:-0500
TZNAME:CDT
DTSTART:20190310T080000
END:DAYLIGHT
BEGIN:STANDARD
TZOFFSETFROM:-0500
TZOFFSETTO:-0600
TZNAME:CST
DTSTART:20191103T070000
END:STANDARD
END:VTIMEZONE
BEGIN:VEVENT
DTSTART;TZID=America/Chicago:20180501T190000
DTEND;TZID=America/Chicago:20180501T200000
DTSTAMP:20260422T045912
CREATED:20180228T231641Z
LAST-MODIFIED:20180228T231641Z
UID:778-1525201200-1525204800@newlifeinames.com
SUMMARY:Bible Quizzing Practice - Seniors
DESCRIPTION:All our senior Bible quizzers join for practice from 7pm – 8pm
URL:https://newlifeinames.com/event/bible-quizzing-practice-seniors-11/
CATEGORIES:Bible Quizzing
END:VEVENT
BEGIN:VEVENT
DTSTART;TZID=America/Chicago:20180501T180000
DTEND;TZID=America/Chicago:20180501T190000
DTSTAMP:20260422T045912
CREATED:20180228T225954Z
LAST-MODIFIED:20180228T225954Z
UID:768-1525197600-1525201200@newlifeinames.com
SUMMARY:Bible Quizzing Practice - Juniors
DESCRIPTION:All our junior Bible quizzers join for practice from 6pm – 7pm
URL:https://newlifeinames.com/event/bible-quizzing-practice-juniors-12/
CATEGORIES:Bible Quizzing
END:VEVENT
BEGIN:VEVENT
DTSTART;TZID=America/Chicago:20180424T190000
DTEND;TZID=America/Chicago:20180424T200000
DTSTAMP:20260422T045912
CREATED:20180220T223550Z
LAST-MODIFIED:20180220T223550Z
UID:609-1524596400-1524600000@newlifeinames.com
SUMMARY:Bible Quizzing Practice - Seniors
DESCRIPTION:All our senior Bible quizzers join for practice from 7pm – 8pm
URL:https://newlifeinames.com/event/bible-quizzing-practice-seniors-10/
CATEGORIES:Bible Quizzing
END:VEVENT
BEGIN:VEVENT
DTSTART;TZID=America/Chicago:20180424T180000
DTEND;TZID=America/Chicago:20180424T190000
DTSTAMP:20260422T045912
CREATED:20180228T225915Z
LAST-MODIFIED:20180228T230850Z
UID:766-1524592800-1524596400@newlifeinames.com
SUMMARY:Bible Quizzing Practice - Juniors
DESCRIPTION:All our junior Bible quizzers join for practice from 6pm – 7pm
URL:https://newlifeinames.com/event/bible-quizzing-practice-juniors-11/
CATEGORIES:Bible Quizzing
END:VEVENT
BEGIN:VEVENT
DTSTART;TZID=America/Chicago:20180417T190000
DTEND;TZID=America/Chicago:20180417T200000
DTSTAMP:20260422T045912
CREATED:20180220T223440Z
LAST-MODIFIED:20180220T223440Z
UID:607-1523991600-1523995200@newlifeinames.com
SUMMARY:Bible Quizzing Practice - Seniors
DESCRIPTION:All our senior Bible quizzers join for practice from 7pm – 8pm
URL:https://newlifeinames.com/event/bible-quizzing-practice-seniors-9/
CATEGORIES:Bible Quizzing
END:VEVENT
BEGIN:VEVENT
DTSTART;TZID=America/Chicago:20180417T180000
DTEND;TZID=America/Chicago:20180417T190000
DTSTAMP:20260422T045912
CREATED:20180228T225832Z
LAST-MODIFIED:20180228T225832Z
UID:764-1523988000-1523991600@newlifeinames.com
SUMMARY:Bible Quizzing Practice - Juniors
DESCRIPTION:All our junior Bible quizzers join for practice from 6pm – 7pm
URL:https://newlifeinames.com/event/bible-quizzing-practice-juniors-10/
CATEGORIES:Bible Quizzing
END:VEVENT
BEGIN:VEVENT
DTSTART;TZID=America/Chicago:20180410T190000
DTEND;TZID=America/Chicago:20180410T200000
DTSTAMP:20260422T045912
CREATED:20180220T223343Z
LAST-MODIFIED:20180220T223343Z
UID:605-1523386800-1523390400@newlifeinames.com
SUMMARY:Bible Quizzing Practice - Seniors
DESCRIPTION:All our senior Bible quizzers join for practice from 7pm – 8pm
URL:https://newlifeinames.com/event/bible-quizzing-practice-seniors-8/
CATEGORIES:Bible Quizzing
END:VEVENT
BEGIN:VEVENT
DTSTART;TZID=America/Chicago:20180410T180000
DTEND;TZID=America/Chicago:20180410T190000
DTSTAMP:20260422T045912
CREATED:20180228T225724Z
LAST-MODIFIED:20180228T225724Z
UID:762-1523383200-1523386800@newlifeinames.com
SUMMARY:Bible Quizzing Practice - Juniors
DESCRIPTION:All our junior Bible quizzers join for practice from 6pm – 7pm
URL:https://newlifeinames.com/event/bible-quizzing-practice-juniors-9/
CATEGORIES:Bible Quizzing
END:VEVENT
BEGIN:VEVENT
DTSTART;VALUE=DATE:20180405
DTEND;VALUE=DATE:20180408
DTSTAMP:20260422T045912
CREATED:20180222T161437Z
LAST-MODIFIED:20180222T161437Z
UID:703-1522886400-1523145599@newlifeinames.com
SUMMARY:Senior Bible Quizzing Extravaganza
DESCRIPTION:North Central BQE \nApril 5-7\, 2018 \nThe Sanctuary\nPastor Scott Graham\nHazelwood\, MO \nRally Speaker: Aaron Batchelor (MO) \nIntermediate Division through Hebrews 7 (278 verses)\nExperienced Division through Hebrews 10 (358 verses)
URL:https://newlifeinames.com/event/senior-bible-quizzing-extravaganza/
CATEGORIES:Bible Quizzing
END:VEVENT
BEGIN:VEVENT
DTSTART;TZID=America/Chicago:20180403T190000
DTEND;TZID=America/Chicago:20180403T200000
DTSTAMP:20260422T045912
CREATED:20180220T223259Z
LAST-MODIFIED:20180220T223259Z
UID:603-1522782000-1522785600@newlifeinames.com
SUMMARY:Bible Quizzing Practice - Seniors
DESCRIPTION:All our senior Bible quizzers join for practice from 7pm – 8pm
URL:https://newlifeinames.com/event/bible-quizzing-practice-seniors-7/
CATEGORIES:Bible Quizzing
END:VEVENT
BEGIN:VEVENT
DTSTART;TZID=America/Chicago:20180403T180000
DTEND;TZID=America/Chicago:20180403T190000
DTSTAMP:20260422T045912
CREATED:20180228T225651Z
LAST-MODIFIED:20180228T225651Z
UID:760-1522778400-1522782000@newlifeinames.com
SUMMARY:Bible Quizzing Practice - Juniors
DESCRIPTION:All our junior Bible quizzers join for practice from 6pm – 7pm
URL:https://newlifeinames.com/event/bible-quizzing-practice-juniors-8/
CATEGORIES:Bible Quizzing
END:VEVENT
BEGIN:VEVENT
DTSTART;TZID=America/Chicago:20180327T190000
DTEND;TZID=America/Chicago:20180327T200000
DTSTAMP:20260422T045912
CREATED:20180220T223224Z
LAST-MODIFIED:20180220T223224Z
UID:601-1522177200-1522180800@newlifeinames.com
SUMMARY:Bible Quizzing Practice - Seniors
DESCRIPTION:All our senior Bible quizzers join for practice from 7pm – 8pm
URL:https://newlifeinames.com/event/bible-quizzing-practice-seniors-6/
CATEGORIES:Bible Quizzing
END:VEVENT
BEGIN:VEVENT
DTSTART;TZID=America/Chicago:20180327T180000
DTEND;TZID=America/Chicago:20180327T190000
DTSTAMP:20260422T045913
CREATED:20180220T220645Z
LAST-MODIFIED:20180220T222605Z
UID:593-1522173600-1522177200@newlifeinames.com
SUMMARY:Bible Quizzing Practice - Juniors
DESCRIPTION:All our junior Bible quizzers join for practice from 6pm – 7pm
URL:https://newlifeinames.com/event/bible-quizzing-practice-juniors-7/
CATEGORIES:Bible Quizzing
END:VEVENT
BEGIN:VEVENT
DTSTART;TZID=America/Chicago:20180320T190000
DTEND;TZID=America/Chicago:20180320T200000
DTSTAMP:20260422T045913
CREATED:20180220T222500Z
LAST-MODIFIED:20180220T222500Z
UID:599-1521572400-1521576000@newlifeinames.com
SUMMARY:Bible Quizzing Practice - Senior
DESCRIPTION:All our senior Bible quizzers join for practice from 7pm – 8pm
URL:https://newlifeinames.com/event/bible-quizzing-practice-senior/
CATEGORIES:Bible Quizzing
END:VEVENT
BEGIN:VEVENT
DTSTART;TZID=America/Chicago:20180320T180000
DTEND;TZID=America/Chicago:20180320T190000
DTSTAMP:20260422T045913
CREATED:20180220T220607Z
LAST-MODIFIED:20180220T222911Z
UID:591-1521568800-1521572400@newlifeinames.com
SUMMARY:Bible Quizzing Practice - Juniors
DESCRIPTION:All our junior Bible quizzers join for practice from 6pm – 7pm
URL:https://newlifeinames.com/event/bible-quizzing-practice-juniors-6/
CATEGORIES:Bible Quizzing
END:VEVENT
BEGIN:VEVENT
DTSTART;TZID=America/Chicago:20180313T190000
DTEND;TZID=America/Chicago:20180313T200000
DTSTAMP:20260422T045913
CREATED:20180220T221604Z
LAST-MODIFIED:20180220T221604Z
UID:597-1520967600-1520971200@newlifeinames.com
SUMMARY:Bible Quizzing Practice - Seniors
DESCRIPTION:All our senior Bible quizzers join for practice from 7pm – 8pm
URL:https://newlifeinames.com/event/bible-quizzing-practice-seniors-5/
CATEGORIES:Bible Quizzing
END:VEVENT
BEGIN:VEVENT
DTSTART;TZID=America/Chicago:20180313T180000
DTEND;TZID=America/Chicago:20180313T190000
DTSTAMP:20260422T045913
CREATED:20180220T220531Z
LAST-MODIFIED:20180220T222955Z
UID:589-1520964000-1520967600@newlifeinames.com
SUMMARY:Bible Quizzing Practice - Juniors
DESCRIPTION:All our junior Bible quizzers join for practice from 6pm – 7pm
URL:https://newlifeinames.com/event/bible-quizzing-practice-juniors-5/
CATEGORIES:Bible Quizzing
END:VEVENT
BEGIN:VEVENT
DTSTART;TZID=America/Chicago:20180306T190000
DTEND;TZID=America/Chicago:20180306T200000
DTSTAMP:20260422T045913
CREATED:20180220T221426Z
LAST-MODIFIED:20180220T221426Z
UID:595-1520362800-1520366400@newlifeinames.com
SUMMARY:Bible Quizzing Practice - Seniors
DESCRIPTION:All our senior Bible quizzers join for practice from 7pm – 8pm
URL:https://newlifeinames.com/event/bible-quizzing-practice-seniors-4/
CATEGORIES:Bible Quizzing
END:VEVENT
BEGIN:VEVENT
DTSTART;TZID=America/Chicago:20180306T180000
DTEND;TZID=America/Chicago:20180306T190000
DTSTAMP:20260422T045913
CREATED:20180220T220440Z
LAST-MODIFIED:20180220T223034Z
UID:587-1520359200-1520362800@newlifeinames.com
SUMMARY:Bible Quizzing Practice - Juniors
DESCRIPTION:All our junior Bible quizzers join for practice from 6pm – 7pm
URL:https://newlifeinames.com/event/bible-quizzing-practice-juniors-4/
CATEGORIES:Bible Quizzing
END:VEVENT
BEGIN:VEVENT
DTSTART;TZID=America/Chicago:20180303T080000
DTEND;TZID=America/Chicago:20180303T150000
DTSTAMP:20260422T045913
CREATED:20180222T154750Z
LAST-MODIFIED:20180222T154750Z
UID:701-1520064000-1520089200@newlifeinames.com
SUMMARY:Iowa District Bible Quiz Tournament
DESCRIPTION:All Bible Quizzers to attend the IA District Bible Quizzing Tournament in Anamosa\, IA. \nFor more information\, please contact Bro. Andy Alexander.
URL:https://newlifeinames.com/event/iowa-district-bible-quiz-tournament/
CATEGORIES:Bible Quizzing
END:VEVENT
BEGIN:VEVENT
DTSTART;TZID=America/Chicago:20180227T190000
DTEND;TZID=America/Chicago:20180227T200000
DTSTAMP:20260422T045913
CREATED:20180209T045854Z
LAST-MODIFIED:20180209T045854Z
UID:535-1519758000-1519761600@newlifeinames.com
SUMMARY:Bible Quizzing Practice - Seniors
DESCRIPTION:All our senior Bible quizzers join for practice from 7pm – 8pm
URL:https://newlifeinames.com/event/bible-quizzing-practice-seniors-3/
CATEGORIES:Bible Quizzing
END:VEVENT
BEGIN:VEVENT
DTSTART;TZID=America/Chicago:20180227T180000
DTEND;TZID=America/Chicago:20180227T190000
DTSTAMP:20260422T045913
CREATED:20180209T045708Z
LAST-MODIFIED:20180209T045708Z
UID:529-1519754400-1519758000@newlifeinames.com
SUMMARY:Bible Quizzing Practice - Juniors
DESCRIPTION:All our junior Bible quizzers join for practice from 6pm – 7pm
URL:https://newlifeinames.com/event/bible-quizzing-practice-juniors-3/
CATEGORIES:Bible Quizzing
END:VEVENT
BEGIN:VEVENT
DTSTART;TZID=America/Chicago:20180220T190000
DTEND;TZID=America/Chicago:20180220T200000
DTSTAMP:20260422T045913
CREATED:20180209T045825Z
LAST-MODIFIED:20180209T045825Z
UID:533-1519153200-1519156800@newlifeinames.com
SUMMARY:Bible Quizzing Practice - Seniors
DESCRIPTION:All our senior Bible quizzers join for practice from 7pm – 8pm
URL:https://newlifeinames.com/event/bible-quizzing-practice-seniors-2/
CATEGORIES:Bible Quizzing
END:VEVENT
BEGIN:VEVENT
DTSTART;TZID=America/Chicago:20180220T180000
DTEND;TZID=America/Chicago:20180220T190000
DTSTAMP:20260422T045913
CREATED:20180209T045631Z
LAST-MODIFIED:20180209T045631Z
UID:527-1519149600-1519153200@newlifeinames.com
SUMMARY:Bible Quizzing Practice - Juniors
DESCRIPTION:All our junior Bible quizzers join for practice from 6pm – 7pm
URL:https://newlifeinames.com/event/bible-quizzing-practice-juniors-2/
CATEGORIES:Bible Quizzing
END:VEVENT
BEGIN:VEVENT
DTSTART;TZID=America/Chicago:20180213T190000
DTEND;TZID=America/Chicago:20180213T200000
DTSTAMP:20260422T045913
CREATED:20180209T045758Z
LAST-MODIFIED:20180209T045758Z
UID:531-1518548400-1518552000@newlifeinames.com
SUMMARY:Bible Quizzing Practice - Seniors
DESCRIPTION:All our senior Bible quizzers join for practice from 7pm – 8pm
URL:https://newlifeinames.com/event/bible-quizzing-practice-seniors/
CATEGORIES:Bible Quizzing
END:VEVENT
BEGIN:VEVENT
DTSTART;TZID=America/Chicago:20180213T180000
DTEND;TZID=America/Chicago:20180213T190000
DTSTAMP:20260422T045913
CREATED:20180209T045540Z
LAST-MODIFIED:20180209T045540Z
UID:525-1518544800-1518548400@newlifeinames.com
SUMMARY:Bible Quizzing Practice - Juniors
DESCRIPTION:All our junior Bible quizzers join for practice from 6pm – 7pm
URL:https://newlifeinames.com/event/bible-quizzing-practice-juniors/
CATEGORIES:Bible Quizzing
END:VEVENT
END:VCALENDAR