BEGIN:VCALENDAR
VERSION:2.0
PRODID:-//New Life Church - ECPv6.15.20//NONSGML v1.0//EN
CALSCALE:GREGORIAN
METHOD:PUBLISH
X-ORIGINAL-URL:https://newlifeinames.com
X-WR-CALDESC:Events for New Life Church
REFRESH-INTERVAL;VALUE=DURATION:PT1H
X-Robots-Tag:noindex
X-PUBLISHED-TTL:PT1H
BEGIN:VTIMEZONE
TZID:America/Chicago
BEGIN:DAYLIGHT
TZOFFSETFROM:-0600
TZOFFSETTO:-0500
TZNAME:CDT
DTSTART:20190310T080000
END:DAYLIGHT
BEGIN:STANDARD
TZOFFSETFROM:-0500
TZOFFSETTO:-0600
TZNAME:CST
DTSTART:20191103T070000
END:STANDARD
BEGIN:DAYLIGHT
TZOFFSETFROM:-0600
TZOFFSETTO:-0500
TZNAME:CDT
DTSTART:20200308T080000
END:DAYLIGHT
BEGIN:STANDARD
TZOFFSETFROM:-0500
TZOFFSETTO:-0600
TZNAME:CST
DTSTART:20201101T070000
END:STANDARD
BEGIN:DAYLIGHT
TZOFFSETFROM:-0600
TZOFFSETTO:-0500
TZNAME:CDT
DTSTART:20210314T080000
END:DAYLIGHT
BEGIN:STANDARD
TZOFFSETFROM:-0500
TZOFFSETTO:-0600
TZNAME:CST
DTSTART:20211107T070000
END:STANDARD
BEGIN:DAYLIGHT
TZOFFSETFROM:-0600
TZOFFSETTO:-0500
TZNAME:CDT
DTSTART:20220313T080000
END:DAYLIGHT
BEGIN:STANDARD
TZOFFSETFROM:-0500
TZOFFSETTO:-0600
TZNAME:CST
DTSTART:20221106T070000
END:STANDARD
END:VTIMEZONE
BEGIN:VEVENT
DTSTART;TZID=America/Chicago:20211103T180000
DTEND;TZID=America/Chicago:20211103T180000
DTSTAMP:20260421T203021
CREATED:20210120T040516Z
LAST-MODIFIED:20210120T041141Z
UID:2216-1635962400-1635962400@newlifeinames.com
SUMMARY:Wednesday Night Bible Quizzing
DESCRIPTION:
URL:https://newlifeinames.com/event/wednesday-night-bible-quizzing-2021-11-03/
LOCATION:New Life Church\, 3505 S Duff Ave.\, Ames\, IA\, 50010
CATEGORIES:Bible Quizzing
END:VEVENT
BEGIN:VEVENT
DTSTART;TZID=America/Chicago:20211027T180000
DTEND;TZID=America/Chicago:20211027T180000
DTSTAMP:20260421T203021
CREATED:20210120T040516Z
LAST-MODIFIED:20210120T041141Z
UID:2215-1635357600-1635357600@newlifeinames.com
SUMMARY:Wednesday Night Bible Quizzing
DESCRIPTION:
URL:https://newlifeinames.com/event/wednesday-night-bible-quizzing-2021-10-27/
LOCATION:New Life Church\, 3505 S Duff Ave.\, Ames\, IA\, 50010
CATEGORIES:Bible Quizzing
END:VEVENT
BEGIN:VEVENT
DTSTART;TZID=America/Chicago:20211020T180000
DTEND;TZID=America/Chicago:20211020T180000
DTSTAMP:20260421T203021
CREATED:20210120T040516Z
LAST-MODIFIED:20210120T041140Z
UID:2214-1634752800-1634752800@newlifeinames.com
SUMMARY:Wednesday Night Bible Quizzing
DESCRIPTION:
URL:https://newlifeinames.com/event/wednesday-night-bible-quizzing-2021-10-20/
LOCATION:New Life Church\, 3505 S Duff Ave.\, Ames\, IA\, 50010
CATEGORIES:Bible Quizzing
END:VEVENT
BEGIN:VEVENT
DTSTART;TZID=America/Chicago:20211013T180000
DTEND;TZID=America/Chicago:20211013T180000
DTSTAMP:20260421T203021
CREATED:20210120T040516Z
LAST-MODIFIED:20210120T041140Z
UID:2213-1634148000-1634148000@newlifeinames.com
SUMMARY:Wednesday Night Bible Quizzing
DESCRIPTION:
URL:https://newlifeinames.com/event/wednesday-night-bible-quizzing-2021-10-13/
LOCATION:New Life Church\, 3505 S Duff Ave.\, Ames\, IA\, 50010
CATEGORIES:Bible Quizzing
END:VEVENT
BEGIN:VEVENT
DTSTART;TZID=America/Chicago:20211006T180000
DTEND;TZID=America/Chicago:20211006T180000
DTSTAMP:20260421T203021
CREATED:20210120T040516Z
LAST-MODIFIED:20210120T041139Z
UID:2212-1633543200-1633543200@newlifeinames.com
SUMMARY:Wednesday Night Bible Quizzing
DESCRIPTION:
URL:https://newlifeinames.com/event/wednesday-night-bible-quizzing-2021-10-06/
LOCATION:New Life Church\, 3505 S Duff Ave.\, Ames\, IA\, 50010
CATEGORIES:Bible Quizzing
END:VEVENT
BEGIN:VEVENT
DTSTART;TZID=America/Chicago:20210929T180000
DTEND;TZID=America/Chicago:20210929T180000
DTSTAMP:20260421T203021
CREATED:20210120T040516Z
LAST-MODIFIED:20210120T041138Z
UID:2211-1632938400-1632938400@newlifeinames.com
SUMMARY:Wednesday Night Bible Quizzing
DESCRIPTION:
URL:https://newlifeinames.com/event/wednesday-night-bible-quizzing-2021-09-29/
LOCATION:New Life Church\, 3505 S Duff Ave.\, Ames\, IA\, 50010
CATEGORIES:Bible Quizzing
END:VEVENT
BEGIN:VEVENT
DTSTART;TZID=America/Chicago:20210922T180000
DTEND;TZID=America/Chicago:20210922T180000
DTSTAMP:20260421T203021
CREATED:20210120T040516Z
LAST-MODIFIED:20210120T041137Z
UID:2210-1632333600-1632333600@newlifeinames.com
SUMMARY:Wednesday Night Bible Quizzing
DESCRIPTION:
URL:https://newlifeinames.com/event/wednesday-night-bible-quizzing-2021-09-22/
LOCATION:New Life Church\, 3505 S Duff Ave.\, Ames\, IA\, 50010
CATEGORIES:Bible Quizzing
END:VEVENT
BEGIN:VEVENT
DTSTART;TZID=America/Chicago:20210915T180000
DTEND;TZID=America/Chicago:20210915T180000
DTSTAMP:20260421T203021
CREATED:20210120T040516Z
LAST-MODIFIED:20210120T041137Z
UID:2209-1631728800-1631728800@newlifeinames.com
SUMMARY:Wednesday Night Bible Quizzing
DESCRIPTION:
URL:https://newlifeinames.com/event/wednesday-night-bible-quizzing-2021-09-15/
LOCATION:New Life Church\, 3505 S Duff Ave.\, Ames\, IA\, 50010
CATEGORIES:Bible Quizzing
END:VEVENT
BEGIN:VEVENT
DTSTART;TZID=America/Chicago:20210908T180000
DTEND;TZID=America/Chicago:20210908T180000
DTSTAMP:20260421T203021
CREATED:20210120T040516Z
LAST-MODIFIED:20210120T041135Z
UID:2208-1631124000-1631124000@newlifeinames.com
SUMMARY:Wednesday Night Bible Quizzing
DESCRIPTION:
URL:https://newlifeinames.com/event/wednesday-night-bible-quizzing-2021-09-08/
LOCATION:New Life Church\, 3505 S Duff Ave.\, Ames\, IA\, 50010
CATEGORIES:Bible Quizzing
END:VEVENT
BEGIN:VEVENT
DTSTART;TZID=America/Chicago:20210901T180000
DTEND;TZID=America/Chicago:20210901T180000
DTSTAMP:20260421T203021
CREATED:20210120T040516Z
LAST-MODIFIED:20210120T041133Z
UID:2207-1630519200-1630519200@newlifeinames.com
SUMMARY:Wednesday Night Bible Quizzing
DESCRIPTION:
URL:https://newlifeinames.com/event/wednesday-night-bible-quizzing-2021-09-01/
LOCATION:New Life Church\, 3505 S Duff Ave.\, Ames\, IA\, 50010
CATEGORIES:Bible Quizzing
END:VEVENT
BEGIN:VEVENT
DTSTART;TZID=America/Chicago:20210825T180000
DTEND;TZID=America/Chicago:20210825T180000
DTSTAMP:20260421T203021
CREATED:20210120T040516Z
LAST-MODIFIED:20210120T041130Z
UID:2206-1629914400-1629914400@newlifeinames.com
SUMMARY:Wednesday Night Bible Quizzing
DESCRIPTION:
URL:https://newlifeinames.com/event/wednesday-night-bible-quizzing-2021-08-25/
LOCATION:New Life Church\, 3505 S Duff Ave.\, Ames\, IA\, 50010
CATEGORIES:Bible Quizzing
END:VEVENT
BEGIN:VEVENT
DTSTART;TZID=America/Chicago:20210818T180000
DTEND;TZID=America/Chicago:20210818T180000
DTSTAMP:20260421T203021
CREATED:20210120T040516Z
LAST-MODIFIED:20210120T041130Z
UID:2205-1629309600-1629309600@newlifeinames.com
SUMMARY:Wednesday Night Bible Quizzing
DESCRIPTION:
URL:https://newlifeinames.com/event/wednesday-night-bible-quizzing-2021-08-18/
LOCATION:New Life Church\, 3505 S Duff Ave.\, Ames\, IA\, 50010
CATEGORIES:Bible Quizzing
END:VEVENT
BEGIN:VEVENT
DTSTART;TZID=America/Chicago:20210811T180000
DTEND;TZID=America/Chicago:20210811T180000
DTSTAMP:20260421T203021
CREATED:20210120T040516Z
LAST-MODIFIED:20210120T041129Z
UID:2204-1628704800-1628704800@newlifeinames.com
SUMMARY:Wednesday Night Bible Quizzing
DESCRIPTION:
URL:https://newlifeinames.com/event/wednesday-night-bible-quizzing-2021-08-11/
LOCATION:New Life Church\, 3505 S Duff Ave.\, Ames\, IA\, 50010
CATEGORIES:Bible Quizzing
END:VEVENT
BEGIN:VEVENT
DTSTART;TZID=America/Chicago:20210804T180000
DTEND;TZID=America/Chicago:20210804T180000
DTSTAMP:20260421T203021
CREATED:20210120T040516Z
LAST-MODIFIED:20210120T041125Z
UID:2203-1628100000-1628100000@newlifeinames.com
SUMMARY:Wednesday Night Bible Quizzing
DESCRIPTION:
URL:https://newlifeinames.com/event/wednesday-night-bible-quizzing-2021-08-04/
LOCATION:New Life Church\, 3505 S Duff Ave.\, Ames\, IA\, 50010
CATEGORIES:Bible Quizzing
END:VEVENT
BEGIN:VEVENT
DTSTART;TZID=America/Chicago:20210728T180000
DTEND;TZID=America/Chicago:20210728T180000
DTSTAMP:20260421T203021
CREATED:20210120T040516Z
LAST-MODIFIED:20210120T041124Z
UID:2202-1627495200-1627495200@newlifeinames.com
SUMMARY:Wednesday Night Bible Quizzing
DESCRIPTION:
URL:https://newlifeinames.com/event/wednesday-night-bible-quizzing-2021-07-28/
LOCATION:New Life Church\, 3505 S Duff Ave.\, Ames\, IA\, 50010
CATEGORIES:Bible Quizzing
END:VEVENT
BEGIN:VEVENT
DTSTART;TZID=America/Chicago:20210721T180000
DTEND;TZID=America/Chicago:20210721T180000
DTSTAMP:20260421T203021
CREATED:20210120T040516Z
LAST-MODIFIED:20210120T041122Z
UID:2201-1626890400-1626890400@newlifeinames.com
SUMMARY:Wednesday Night Bible Quizzing
DESCRIPTION:
URL:https://newlifeinames.com/event/wednesday-night-bible-quizzing-2021-07-21/
LOCATION:New Life Church\, 3505 S Duff Ave.\, Ames\, IA\, 50010
CATEGORIES:Bible Quizzing
END:VEVENT
BEGIN:VEVENT
DTSTART;TZID=America/Chicago:20210714T180000
DTEND;TZID=America/Chicago:20210714T180000
DTSTAMP:20260421T203021
CREATED:20210120T040516Z
LAST-MODIFIED:20210120T041119Z
UID:2200-1626285600-1626285600@newlifeinames.com
SUMMARY:Wednesday Night Bible Quizzing
DESCRIPTION:
URL:https://newlifeinames.com/event/wednesday-night-bible-quizzing-2021-07-14/
LOCATION:New Life Church\, 3505 S Duff Ave.\, Ames\, IA\, 50010
CATEGORIES:Bible Quizzing
END:VEVENT
BEGIN:VEVENT
DTSTART;TZID=America/Chicago:20210707T180000
DTEND;TZID=America/Chicago:20210707T180000
DTSTAMP:20260421T203021
CREATED:20210120T040516Z
LAST-MODIFIED:20210120T041118Z
UID:2199-1625680800-1625680800@newlifeinames.com
SUMMARY:Wednesday Night Bible Quizzing
DESCRIPTION:
URL:https://newlifeinames.com/event/wednesday-night-bible-quizzing-2021-07-07/
LOCATION:New Life Church\, 3505 S Duff Ave.\, Ames\, IA\, 50010
CATEGORIES:Bible Quizzing
END:VEVENT
BEGIN:VEVENT
DTSTART;TZID=America/Chicago:20210630T180000
DTEND;TZID=America/Chicago:20210630T180000
DTSTAMP:20260421T203021
CREATED:20210120T040516Z
LAST-MODIFIED:20210120T041113Z
UID:2198-1625076000-1625076000@newlifeinames.com
SUMMARY:Wednesday Night Bible Quizzing
DESCRIPTION:
URL:https://newlifeinames.com/event/wednesday-night-bible-quizzing-2021-06-30/
LOCATION:New Life Church\, 3505 S Duff Ave.\, Ames\, IA\, 50010
CATEGORIES:Bible Quizzing
END:VEVENT
BEGIN:VEVENT
DTSTART;VALUE=DATE:20210409
DTEND;VALUE=DATE:20210411
DTSTAMP:20260421T203021
CREATED:20210120T025430Z
LAST-MODIFIED:20210120T025430Z
UID:1993-1617926400-1618099199@newlifeinames.com
SUMMARY:Jr Bible Quiz Extravaganza
DESCRIPTION:
URL:https://newlifeinames.com/event/jr-bible-quiz-extravaganza-2/
LOCATION:Mattoon\, IL
CATEGORIES:Bible Quizzing,Youth
END:VEVENT
BEGIN:VEVENT
DTSTART;TZID=America/Chicago:20210210T180000
DTEND;TZID=America/Chicago:20210210T180000
DTSTAMP:20260421T203021
CREATED:20210120T040516Z
LAST-MODIFIED:20210120T041055Z
UID:2177-1612980000-1612980000@newlifeinames.com
SUMMARY:Wednesday Night Bible Quizzing
DESCRIPTION:
URL:https://newlifeinames.com/event/wednesday-night-bible-quizzing/
LOCATION:New Life Church\, 3505 S Duff Ave.\, Ames\, IA\, 50010
CATEGORIES:Bible Quizzing
END:VEVENT
BEGIN:VEVENT
DTSTART;VALUE=DATE:20200731
DTEND;VALUE=DATE:20200805
DTSTAMP:20260421T203021
CREATED:20200130T022848Z
LAST-MODIFIED:20200130T022848Z
UID:1810-1596153600-1596585599@newlifeinames.com
SUMMARY:National Sr Bible Quiz Finals
DESCRIPTION:
URL:https://newlifeinames.com/event/national-sr-bible-quiz-finals/
LOCATION:ST. CHARLES\, MO
CATEGORIES:Bible Quizzing
END:VEVENT
BEGIN:VEVENT
DTSTART;VALUE=DATE:20200725
DTEND;VALUE=DATE:20200731
DTSTAMP:20260421T203021
CREATED:20200130T022451Z
LAST-MODIFIED:20200130T022451Z
UID:1807-1595635200-1596153599@newlifeinames.com
SUMMARY:National Jr Bible Quiz Finals
DESCRIPTION:
URL:https://newlifeinames.com/event/national-jr-bible-quiz-finals/
LOCATION:BRANSON\, MO
CATEGORIES:Bible Quizzing
END:VEVENT
BEGIN:VEVENT
DTSTART;VALUE=DATE:20200606
DTEND;VALUE=DATE:20200607
DTSTAMP:20260421T203021
CREATED:20200130T014750Z
LAST-MODIFIED:20200130T014750Z
UID:1781-1591401600-1591487999@newlifeinames.com
SUMMARY:IA District Jr/Sr Bible Quizzing Finals
DESCRIPTION:TBA
URL:https://newlifeinames.com/event/ia-district-jr-sr-bible-quizzing-finals/
LOCATION:IA
CATEGORIES:Bible Quizzing,IA District
END:VEVENT
BEGIN:VEVENT
DTSTART;VALUE=DATE:20200502
DTEND;VALUE=DATE:20200503
DTSTAMP:20260421T203021
CREATED:20200130T012812Z
LAST-MODIFIED:20200130T012812Z
UID:1763-1588377600-1588463999@newlifeinames.com
SUMMARY:IA District Bible Quizzing Tournament
DESCRIPTION:TBA
URL:https://newlifeinames.com/event/ia-district-bible-quizzing-tournament-3/
LOCATION:IA
CATEGORIES:Bible Quizzing,IA District
END:VEVENT
BEGIN:VEVENT
DTSTART;VALUE=DATE:20200419
DTEND;VALUE=DATE:20200420
DTSTAMP:20260421T203021
CREATED:20200124T021154Z
LAST-MODIFIED:20200124T021154Z
UID:1753-1587254400-1587340799@newlifeinames.com
SUMMARY:Bible Quiz Fundraiser - Bake Sale
DESCRIPTION:
URL:https://newlifeinames.com/event/bible-quiz-fundraiser-bake-sale/
LOCATION:New Life Church\, 3505 S Duff Ave.\, Ames\, IA\, 50010
CATEGORIES:Bible Quizzing
END:VEVENT
BEGIN:VEVENT
DTSTART;VALUE=DATE:20200403
DTEND;VALUE=DATE:20200405
DTSTAMP:20260421T203021
CREATED:20200124T015932Z
LAST-MODIFIED:20200124T015932Z
UID:1740-1585872000-1586044799@newlifeinames.com
SUMMARY:Jr Bible Quiz Extravaganza
DESCRIPTION:Taking place in Mattoon\, IL.
URL:https://newlifeinames.com/event/jr-bible-quiz-extravaganza/
LOCATION:IA
CATEGORIES:Bible Quizzing
END:VEVENT
BEGIN:VEVENT
DTSTART;VALUE=DATE:20200307
DTEND;VALUE=DATE:20200308
DTSTAMP:20260421T203021
CREATED:20200124T014522Z
LAST-MODIFIED:20200124T014522Z
UID:1722-1583539200-1583625599@newlifeinames.com
SUMMARY:IA District Bible Quizzing Tournament
DESCRIPTION:TBA
URL:https://newlifeinames.com/event/ia-district-bible-quizzing-tournament-2/
LOCATION:IA
CATEGORIES:Bible Quizzing,IA District
END:VEVENT
BEGIN:VEVENT
DTSTART;TZID=America/Chicago:20200208T080000
DTEND;TZID=America/Chicago:20200208T170000
DTSTAMP:20260421T203021
CREATED:20200124T012144Z
LAST-MODIFIED:20200124T012144Z
UID:1701-1581148800-1581181200@newlifeinames.com
SUMMARY:IA District Bible Quizzing Tournament
DESCRIPTION:TBA
URL:https://newlifeinames.com/event/ia-district-bible-quizzing-tournament/
LOCATION:IA
CATEGORIES:Bible Quizzing,IA District
END:VEVENT
BEGIN:VEVENT
DTSTART;TZID=America/Chicago:20200126T123000
DTEND;TZID=America/Chicago:20200126T133000
DTSTAMP:20260421T203021
CREATED:20200124T005131Z
LAST-MODIFIED:20200124T005131Z
UID:1690-1580041800-1580045400@newlifeinames.com
SUMMARY:Bible Quiz Fundraiser - Noodle Lunch
DESCRIPTION:Quizzing team will be serving a chicken and noodle lunch\, Kyle’s grandmother’s recipe made with homemade noodles.  Each meal will be in to-go containers\, so you can choose to eat at home or at church.  Including in the meal will be mashed potatoes\, chicken and noodles\, green beans and a dinner roll.  It will be $8/meal\, or you can buy a quart for $10.  We encourage everyone to take a trip down to the kitchen\, grab a nice meal and help support our amazing bible quizzers.
URL:https://newlifeinames.com/event/bible-quiz-fundraiser-noodle-lunch/
LOCATION:New Life Church\, 3505 S Duff Ave.\, Ames\, IA\, 50010
CATEGORIES:Bible Quizzing
END:VEVENT
END:VCALENDAR